BEGIN:VCALENDAR
VERSION:2.0
PRODID:-//Solar Industry - ECPv4.5.7//NONSGML v1.0//EN
CALSCALE:GREGORIAN
METHOD:PUBLISH
X-WR-CALNAME:Solar Industry
X-ORIGINAL-URL:https://solarindustrymag.com
X-WR-CALDESC:Events for Solar Industry
BEGIN:VEVENT
DTSTART;VALUE=DATE:20170710
DTEND;VALUE=DATE:20170713
DTSTAMP:20170710T074333
CREATED:20170117T200901Z
LAST-MODIFIED:20170117T200901Z
UID:25028-1499644800-1499990399@solarindustrymag.com
SUMMARY:Intersolar North America
DESCRIPTION:\nIntersolar North America takes place each July in the heart of North America’s largest solar market: California. Since its establishment in 2008\, Intersolar North America has become one of the most-attended solar events\, with more than 18\,000 professionals\, and a premier networking platform for the North American solar industry. The exhibition focuses on the areas of photovoltaics\, smart renewable energy\, and solar heating and cooling technologies\, and it is co-located with ees North America and SEMICON West. \n\n\n\n 
URL:https://solarindustrymag.com/event/intersolar-north-america
LOCATION:San Francisco\, CA\, United States
END:VEVENT
BEGIN:VEVENT
DTSTART;VALUE=DATE:20170710
DTEND;VALUE=DATE:20170713
DTSTAMP:20170710T074333
CREATED:20170117T201404Z
LAST-MODIFIED:20170117T201404Z
UID:25032-1499644800-1499990399@solarindustrymag.com
SUMMARY:ees North America
DESCRIPTION:\nees North America\, co-located with Intersolar North America\, covers the entire value chain of battery and energy storage technologies and is an ideal platform for stakeholders in the rapidly growing energy storage market. ees North America provides an opportunity to explore energy storage systems in combination with solar PV and beyond. \n\n\n\n 
URL:https://solarindustrymag.com/event/ees-north-america
LOCATION:San Francisco\, CA\, United States
END:VEVENT
BEGIN:VEVENT
DTSTART;VALUE=DATE:20170725
DTEND;VALUE=DATE:20170727
DTSTAMP:20170710T074333
CREATED:20170118T150848Z
LAST-MODIFIED:20170118T150848Z
UID:25072-1500940800-1501199999@solarindustrymag.com
SUMMARY:National Town Meeting on Demand Response and Smart Grid
DESCRIPTION:\nThe National Town Meeting on Demand Response and Smart Grid focuses on the business and policy facets of demand response and provides roundtable discussions regarding trends and various business developments within the industry. Demand response experts engage in a professional environment through Q&A sessions with industry leaders and networking sessions\, as well as presentations\, case studies and panel discussions. \n\n\n\n 
URL:https://solarindustrymag.com/event/national-town-meeting-on-demand-response-and-smart-grid
LOCATION:Washington\, D.C.\, DC\, United States
END:VEVENT
BEGIN:VEVENT
DTSTART;VALUE=DATE:20170822
DTEND;VALUE=DATE:20170824
DTSTAMP:20170710T074333
CREATED:20170117T203554Z
LAST-MODIFIED:20170117T203554Z
UID:25036-1503360000-1503619199@solarindustrymag.com
SUMMARY:Intersolar South America
DESCRIPTION:\nIntersolar South America\, Latin America’s largest exhibition and conference for the solar industry\, has a focus on the areas of photovoltaics\, PV production technologies\, energy storage and solar thermal technologies. In 2017\, Intersolar South America will be hosting the special exhibition “ees South America” to extend and round up electrical energy storage innovations and program. \n  \n\n\n\n 
URL:https://solarindustrymag.com/event/intersolar-south-america
LOCATION:Sao Paulo\, Brazil
END:VEVENT
BEGIN:VEVENT
DTSTART;VALUE=DATE:20170910
DTEND;VALUE=DATE:20170913
DTSTAMP:20170710T074333
CREATED:20170117T211524Z
LAST-MODIFIED:20170117T211524Z
UID:25044-1505001600-1505347199@solarindustrymag.com
SUMMARY:Solar Power International
DESCRIPTION:\nSolar Power International is an innovative trade show for professionals in the solar energy industry\, globally and nationwide. It is recognized as the largest and fastest-growing solar event in North America and provides an environment in which industry leaders can disseminate knowledge and showcase their expertise – bringing educational programming and networking opportunities to one event. \n\n\n\n 
URL:https://solarindustrymag.com/event/solar-power-international
LOCATION:Las Vegas\, NV\, United States
END:VEVENT
BEGIN:VEVENT
DTSTART;VALUE=DATE:20170925
DTEND;VALUE=DATE:20170927
DTSTAMP:20170710T074333
CREATED:20170117T194728Z
LAST-MODIFIED:20170117T194728Z
UID:25024-1506297600-1506556799@solarindustrymag.com
SUMMARY:Intersolar Middle East Exhibition & Conference
DESCRIPTION:\nIntersolar Middle East focuses on the areas of photovoltaics\, PV production technologies\, energy storage systems and smart energy. For the first time\, it will take place at the Dubai World Trade Centre in Dubai\, United Arab Emirates\, in conjunction with GulfSol. The co-located conference with 80+ speakers will give insights into MENA country markets\, perspectives in PV development\, and policies and regulations. \n  \n\n\n\n 
URL:https://solarindustrymag.com/event/intersolar-middle-east-exhibition-conference
LOCATION:United Arab Emirates
END:VEVENT
BEGIN:VEVENT
DTSTART;VALUE=DATE:20171205
DTEND;VALUE=DATE:20171207
DTSTAMP:20170710T074333
CREATED:20170117T193921Z
LAST-MODIFIED:20170117T193921Z
UID:25021-1512432000-1512691199@solarindustrymag.com
SUMMARY:Intersolar India Exhibition & Conference
DESCRIPTION:\nHeld in Mumbai\, this event has a focus on the areas of photovoltaics\, PV production technologies\, energy storage and solar thermal technologies. \n\n\n\n 
URL:https://solarindustrymag.com/event/intersolar-india-exhibition-conference
LOCATION:Mumbai\, India
END:VEVENT
END:VCALENDAR